BEGIN:VCALENDAR
VERSION:2.0
PRODID:-//THK Orion Tekmer - ECPv6.15.20//NONSGML v1.0//EN
CALSCALE:GREGORIAN
METHOD:PUBLISH
X-WR-CALNAME:THK Orion Tekmer
X-ORIGINAL-URL:https://oriontekmer.com
X-WR-CALDESC:THK Orion Tekmer için etkinlikler
REFRESH-INTERVAL;VALUE=DURATION:PT1H
X-Robots-Tag:noindex
X-PUBLISHED-TTL:PT1H
BEGIN:VTIMEZONE
TZID:Europe/Moscow
BEGIN:STANDARD
TZOFFSETFROM:+0300
TZOFFSETTO:+0300
TZNAME:MSK
DTSTART:20250101T000000
END:STANDARD
END:VTIMEZONE
BEGIN:VEVENT
DTSTART;TZID=Europe/Moscow:20260421T100000
DTEND;TZID=Europe/Moscow:20260421T100000
DTSTAMP:20260419T175655
CREATED:20260407T101940Z
LAST-MODIFIED:20260408T121506Z
UID:6982-1776765600-1776765600@oriontekmer.com
SUMMARY:21 Nisan Filtre Kahve Canlı Yayını
DESCRIPTION:Girişimcilik dünyasının mutfağından hikâyeler\, teknolojiyle şekillenen yeni iş modelleri ve sahadan gelen gerçek deneyimler bu hafta da masada. \nFiltre Kahve programında\, THK & Orion TEKMER Genel Müdürü İsa Uysal moderatörlüğünde; AnalyzeWare Kurucu Ortağı Hakan ASLAN ve LTC İnovasyon AŞ. Kurucusu Murat BİL ile girişimcilik ekosistemini ve başarı stratejilerini konuşuyoruz. \nBu bölümde; veriye dayalı analiz süreçleri\, inovasyon odaklı iş modelleri\, operasyonel yönetim ve teknoloji dünyasının sunduğu yeni fırsatlar samimi bir sohbet ortamında masaya yatırılıyor. \nKahvenizi alın\, yerinizi hazırlayın. Sohbet başlıyor! ☕ \n📅 21 Nisan Salı \n⏰ 10:00 – 10:45 \n📍 Canlı Yayın: LinkedIn\, YouTube & Instagram \n🔗 Yayın Linki: https://www.youtube.com/live/B7HRp-Qy5jI?si=9XoQut9Lhan5g6uL
URL:https://oriontekmer.com/etkinlikler/21-nisan-filtre-kahve-canli-yayini/
ATTACH;FMTTYPE=image/png:https://oriontekmer.com/wp-content/uploads/2026/04/Filtre-Kahve-21-Nisan-yatay.png
END:VEVENT
BEGIN:VEVENT
DTSTART;TZID=Europe/Moscow:20260421T140000
DTEND;TZID=Europe/Moscow:20260421T150000
DTSTAMP:20260419T175655
CREATED:20260407T110456Z
LAST-MODIFIED:20260408T095038Z
UID:7001-1776780000-1776783600@oriontekmer.com
SUMMARY:Avrupa Birliği Fonlarına Doğru Yerinden Başlamak İsteyenler Buraya!
DESCRIPTION:Girişimciler\, startuplar ve KOBİ’ler için \nAvrupa Birliği fon mekanizmalarını doğru kanallar üzerinden tanımaya odaklanan canlı webinarımızla karşınızdayız. \nBu eğitim\, Bee Advise Danışmanlık tarafından verilecektir. \nBu yayında; \n✔️ Cascade Funding programları \n✔️ Horizon ve Eureka Programları \n✔️ Kim\, hangi fonlara başvurmalı? \n✔️ Nereden başlanmalı\, nelere dikkat edilmeli? \nsorularına net ve sahadan gelen bilgilerle cevap bulacaksınız. \n🗓️ Tarih: 21 Nisan Salı \n⏰ Saat: 14.00 – 15.00 \n📡 Canlı | Online \n📍 LinkedIn & YouTube Canlı Yayın \n🏢 THK & Orion Tekmer \n🎓 Eğitimci: Selçuk Otluoğlu \nAB fonlarına girmek istiyor ama nereden başlayacağınızı bilmiyorsanız\, bu yayın tam size göre. \nYayın linki: https://www.youtube.com/watch?v=ygbLdzKKbEc
URL:https://oriontekmer.com/etkinlikler/avrupa-birligi-fonlarina-dogru-yerinden-baslamak-isteyenler-buraya/
ATTACH;FMTTYPE=image/png:https://oriontekmer.com/wp-content/uploads/2026/04/Webinar-21-Nisan-Selcuk-Otl.-Banner.png
END:VEVENT
BEGIN:VEVENT
DTSTART;TZID=Europe/Moscow:20260428T100000
DTEND;TZID=Europe/Moscow:20260428T100000
DTSTAMP:20260419T175655
CREATED:20260407T102333Z
LAST-MODIFIED:20260408T121323Z
UID:6986-1777370400-1777370400@oriontekmer.com
SUMMARY:28 Nisan Filtre Kahve Etkinliği
DESCRIPTION:Girişimcilik dünyasının mutfağından hikâyeler\, teknolojiyle şekillenen yeni iş modelleri ve sahadan gelen gerçek deneyimler bu hafta da masada. \nFiltre Kahve programında\, THK & Orion TEKMER Genel Müdürü İsa Uysal moderatörlüğünde; CORİDOR Kurucusu Ravzanur EKER ve Dikont Kurucusu Can DENİZ ile girişimcilik ekosistemini ve başarı stratejilerini konuşuyoruz. \nBu bölümde; platform ekonomisi\, dijital iş modelleri\, girişimcilikte sürdürülebilirlik ve teknoloji odaklı büyüme fırsatları samimi bir sohbet ortamında masaya yatırılıyor. \nKahvenizi alın\, yerinizi hazırlayın. Sohbet başlıyor! ☕ \n📅 28 Nisan Salı \n⏰ 10:00 – 10:45 \n📍 Canlı Yayın: LinkedIn\, YouTube & Instagram \n🔗 Yayın Linki: https://www.youtube.com/live/zSNqv7OvwaU?si=g1ksmFSfiw9ZghNh
URL:https://oriontekmer.com/etkinlikler/28-nisan-filtre-kahve-etkinligi/
ATTACH;FMTTYPE=image/png:https://oriontekmer.com/wp-content/uploads/2026/04/Filtre-Kahve-28-Nisan-Yatay.png
END:VEVENT
BEGIN:VEVENT
DTSTART;TZID=Europe/Moscow:20260428T140000
DTEND;TZID=Europe/Moscow:20260428T150000
DTSTAMP:20260419T175655
CREATED:20260407T110218Z
LAST-MODIFIED:20260408T094353Z
UID:6996-1777384800-1777388400@oriontekmer.com
SUMMARY:Danışmanlıkta Yeni Dönem: Değer Yaratan İşbirlikleri ve Ekosistem Yönetimi
DESCRIPTION:🚀 Danışmanlıkta Yeni Dönem Başlıyor! \nİş dünyasının hızla değişen dinamiklerinde\, sadece hizmet sunmak değil\, değer yaratan iş birlikleri kurmak ve bir ekosistem yönetimi kurgulamak artık başarının anahtarı. \nPeki\, danışmanlık dünyası bu yeni döneme nasıl adapte oluyor? \nDestek Patent İcra Kurulu Üyesi ve Destek Consulting Company Direktörü Kayhan BAYAZIT\, “Danışmanlıkta Yeni Dönem: Değer Yaratan İş Birlikleri ve Ekosistem Yönetimi” başlığıyla bizlerle olacak. Stratejik ortaklıkların ve inovatif iş modellerinin geleceğini konuşacağımız bu canlı yayını kaçırmayın! \n🗓️28 Nisan Salı\n🕑14:00\n📍YouTube\, Instagram & LinkedIn (Canlı) \n🎓 Eğitimci: Kayhan BAYAZIT \n🔗 Yayın Linki: https://www.youtube.com/live/rUolH9OFbyQ?si=-NDXiamDidPHcEWE
URL:https://oriontekmer.com/etkinlikler/danismanlikta-yeni-donem-deger-yaratan-isbirlikleri-ve-ekosistem-yonetimi/
ATTACH;FMTTYPE=image/png:https://oriontekmer.com/wp-content/uploads/2026/04/Destek-Patent-Banner.png
END:VEVENT
END:VCALENDAR